BEGIN:VCALENDAR
VERSION:2.0
PRODID:-//Blue Print Gallery - ECPv6.15.20//NONSGML v1.0//EN
CALSCALE:GREGORIAN
METHOD:PUBLISH
X-ORIGINAL-URL:https://blueprint-gallery.com
X-WR-CALDESC:Events for Blue Print Gallery
REFRESH-INTERVAL;VALUE=DURATION:PT1H
X-Robots-Tag:noindex
X-PUBLISHED-TTL:PT1H
BEGIN:VTIMEZONE
TZID:America/Chicago
BEGIN:DAYLIGHT
TZOFFSETFROM:-0600
TZOFFSETTO:-0500
TZNAME:CDT
DTSTART:20220313T080000
END:DAYLIGHT
BEGIN:STANDARD
TZOFFSETFROM:-0500
TZOFFSETTO:-0600
TZNAME:CST
DTSTART:20221106T070000
END:STANDARD
BEGIN:DAYLIGHT
TZOFFSETFROM:-0600
TZOFFSETTO:-0500
TZNAME:CDT
DTSTART:20230312T080000
END:DAYLIGHT
BEGIN:STANDARD
TZOFFSETFROM:-0500
TZOFFSETTO:-0600
TZNAME:CST
DTSTART:20231105T070000
END:STANDARD
BEGIN:DAYLIGHT
TZOFFSETFROM:-0600
TZOFFSETTO:-0500
TZNAME:CDT
DTSTART:20240310T080000
END:DAYLIGHT
BEGIN:STANDARD
TZOFFSETFROM:-0500
TZOFFSETTO:-0600
TZNAME:CST
DTSTART:20241103T070000
END:STANDARD
END:VTIMEZONE
BEGIN:VEVENT
DTSTART;TZID=America/Chicago:20230701T100000
DTEND;TZID=America/Chicago:20230731T170000
DTSTAMP:20260423T121509
CREATED:20230531T202351Z
LAST-MODIFIED:20230531T203145Z
UID:10977-1688205600-1690822800@blueprint-gallery.com
SUMMARY:Walk a Mile Exhibition
DESCRIPTION:Blue Print Gallery is excited to introduce a new exhibition this year. The Walk A Mile exhibit will begin on July 1st and remain hanging until July 31st. The exhibition will include one piece of artwork from each member of Blue Print Gallery’s artist community. Visit the gallery Monday – Saturday from 10:00am to 5:00pm to see how each artist has interpreted the prompt of “Walk A Mile”.
URL:https://blueprint-gallery.com/event/walk-a-mile-exhibition/
LOCATION:Blue Print Gallery\, 2701 Fairmount Street\, Dallas\, TX\, 75201\, United States
CATEGORIES:Art Show
ATTACH;FMTTYPE=image/jpeg:https://blueprint-gallery.com/wp-content/uploads/2023/05/IMG_6961.jpg
END:VEVENT
END:VCALENDAR