BEGIN:VCALENDAR
VERSION:2.0
PRODID:-//Blue Print Gallery - ECPv6.15.20//NONSGML v1.0//EN
CALSCALE:GREGORIAN
METHOD:PUBLISH
X-WR-CALNAME:Blue Print Gallery
X-ORIGINAL-URL:https://blueprint-gallery.com
X-WR-CALDESC:Events for Blue Print Gallery
REFRESH-INTERVAL;VALUE=DURATION:PT1H
X-Robots-Tag:noindex
X-PUBLISHED-TTL:PT1H
BEGIN:VTIMEZONE
TZID:America/Chicago
BEGIN:DAYLIGHT
TZOFFSETFROM:-0600
TZOFFSETTO:-0500
TZNAME:CDT
DTSTART:20220313T080000
END:DAYLIGHT
BEGIN:STANDARD
TZOFFSETFROM:-0500
TZOFFSETTO:-0600
TZNAME:CST
DTSTART:20221106T070000
END:STANDARD
BEGIN:DAYLIGHT
TZOFFSETFROM:-0600
TZOFFSETTO:-0500
TZNAME:CDT
DTSTART:20230312T080000
END:DAYLIGHT
BEGIN:STANDARD
TZOFFSETFROM:-0500
TZOFFSETTO:-0600
TZNAME:CST
DTSTART:20231105T070000
END:STANDARD
BEGIN:DAYLIGHT
TZOFFSETFROM:-0600
TZOFFSETTO:-0500
TZNAME:CDT
DTSTART:20240310T080000
END:DAYLIGHT
BEGIN:STANDARD
TZOFFSETFROM:-0500
TZOFFSETTO:-0600
TZNAME:CST
DTSTART:20241103T070000
END:STANDARD
END:VTIMEZONE
BEGIN:VEVENT
DTSTART;TZID=America/Chicago:20230302T180000
DTEND;TZID=America/Chicago:20230302T200000
DTSTAMP:20260423T190014
CREATED:20221003T145200Z
LAST-MODIFIED:20230215T222025Z
UID:8752-1677780000-1677787200@blueprint-gallery.com
SUMMARY:March Art Show
DESCRIPTION:Join us for an art show on March 2nd from 6 to 8pm! Featured Artists: Emily Morgan Brown\, Randal Ford\, Jill Lear\, Ransome\, Stephanie Shank\, and Eliza Thomas.
URL:https://blueprint-gallery.com/event/march-art-show/
LOCATION:Blue Print Gallery\, 2701 Fairmount Street\, Dallas\, TX\, 75201\, United States
CATEGORIES:Art Show
ATTACH;FMTTYPE=image/jpeg:https://blueprint-gallery.com/wp-content/uploads/2022/10/MBF-SJ-III-2019.jpeg
END:VEVENT
BEGIN:VEVENT
DTSTART;TZID=America/Chicago:20230324T140000
DTEND;TZID=America/Chicago:20230324T160000
DTSTAMP:20260423T190014
CREATED:20230309T174209Z
LAST-MODIFIED:20230309T174305Z
UID:10089-1679666400-1679673600@blueprint-gallery.com
SUMMARY:EMYO Paper Doll Party and Book Signing
DESCRIPTION:
URL:https://blueprint-gallery.com/event/emyo-paper-doll-party/
LOCATION:Blue Print Gallery\, 2701 Fairmount Street\, Dallas\, TX\, 75201\, United States
CATEGORIES:Book Signing
ATTACH;FMTTYPE=image/jpeg:https://blueprint-gallery.com/wp-content/uploads/2023/03/Emyo-Party-2.jpg
END:VEVENT
END:VCALENDAR