BEGIN:VCALENDAR
VERSION:2.0
PRODID:-//Blue Print Gallery - ECPv6.15.20//NONSGML v1.0//EN
CALSCALE:GREGORIAN
METHOD:PUBLISH
X-WR-CALNAME:Blue Print Gallery
X-ORIGINAL-URL:https://blueprint-gallery.com
X-WR-CALDESC:Events for Blue Print Gallery
REFRESH-INTERVAL;VALUE=DURATION:PT1H
X-Robots-Tag:noindex
X-PUBLISHED-TTL:PT1H
BEGIN:VTIMEZONE
TZID:America/Chicago
BEGIN:DAYLIGHT
TZOFFSETFROM:-0600
TZOFFSETTO:-0500
TZNAME:CDT
DTSTART:20210314T080000
END:DAYLIGHT
BEGIN:STANDARD
TZOFFSETFROM:-0500
TZOFFSETTO:-0600
TZNAME:CST
DTSTART:20211107T070000
END:STANDARD
BEGIN:DAYLIGHT
TZOFFSETFROM:-0600
TZOFFSETTO:-0500
TZNAME:CDT
DTSTART:20220313T080000
END:DAYLIGHT
BEGIN:STANDARD
TZOFFSETFROM:-0500
TZOFFSETTO:-0600
TZNAME:CST
DTSTART:20221106T070000
END:STANDARD
BEGIN:DAYLIGHT
TZOFFSETFROM:-0600
TZOFFSETTO:-0500
TZNAME:CDT
DTSTART:20230312T080000
END:DAYLIGHT
BEGIN:STANDARD
TZOFFSETFROM:-0500
TZOFFSETTO:-0600
TZNAME:CST
DTSTART:20231105T070000
END:STANDARD
BEGIN:DAYLIGHT
TZOFFSETFROM:-0600
TZOFFSETTO:-0500
TZNAME:CDT
DTSTART:20240310T080000
END:DAYLIGHT
BEGIN:STANDARD
TZOFFSETFROM:-0500
TZOFFSETTO:-0600
TZNAME:CST
DTSTART:20241103T070000
END:STANDARD
END:VTIMEZONE
BEGIN:VEVENT
DTSTART;TZID=America/Chicago:20230119T180000
DTEND;TZID=America/Chicago:20230119T200000
DTSTAMP:20260422T174759
CREATED:20221003T144110Z
LAST-MODIFIED:20221003T144110Z
UID:8748-1674151200-1674158400@blueprint-gallery.com
SUMMARY:Dallas Young Artist Exhibition
DESCRIPTION:Blue Print Gallery will host the 5th annual Dallas Young Artist Exhibition from Thursday\, January 19th from 6:00pm – 8:00pm at 2701 Fairmount Street. \nBlue Print Gallery’s mission is to increase appreciation for high school artists from a wide range of artistic backgrounds and to promote\, encourage and nurture artistic opportunities through public exhibition at our gallery. Each participating high school will review the work of all their advanced placement art students and select six to eight pieces to be showcased at the exhibition.
URL:https://blueprint-gallery.com/event/dallas-young-artist-exhibition/
LOCATION:Blue Print Gallery\, 2701 Fairmount Street\, Dallas\, TX\, 75201\, United States
ATTACH;FMTTYPE=image/jpeg:https://blueprint-gallery.com/wp-content/uploads/2022/10/DYAESTD2023_FRONT.jpg
END:VEVENT
BEGIN:VEVENT
DTSTART;TZID=America/Chicago:20221110T180000
DTEND;TZID=America/Chicago:20221110T200000
DTSTAMP:20260422T174759
CREATED:20220910T183952Z
LAST-MODIFIED:20220910T184221Z
UID:8484-1668103200-1668110400@blueprint-gallery.com
SUMMARY:November Art Show
DESCRIPTION:Join us for an art show on November 10th from 6 to 8pm! \nFeatured Artists: Megan Adams Brooks\, Joyce Howell\, Joey Lancaster\, Melanie Parke\, Maggie Robertson\, Elizabeth Schoyer and Charlotte Seifert
URL:https://blueprint-gallery.com/event/november-art-show/
LOCATION:Blue Print Gallery\, 2701 Fairmount Street\, Dallas\, TX\, 75201\, United States
CATEGORIES:Art Show
ATTACH;FMTTYPE=image/jpeg:https://blueprint-gallery.com/wp-content/uploads/2022/09/Brooks-M-A-Eae-Tisse-I-Woven-2322x2422BF.jpeg
END:VEVENT
BEGIN:VEVENT
DTSTART;TZID=America/Chicago:20220915T180000
DTEND;TZID=America/Chicago:20220915T200000
DTSTAMP:20260422T174759
CREATED:20220909T161051Z
LAST-MODIFIED:20220910T184308Z
UID:8470-1663264800-1663272000@blueprint-gallery.com
SUMMARY:September Art Show
DESCRIPTION:Join us for an art show on September 15 from 6 to 8pm. We’ll have a food truck + live music!​​​​​​​​ \nFeatured Artists:​​​​​​​​​​​​​​​​ Joanne Freeman​​​​​​​​\, Andrew Long​​​​​​​​\, Jeff Metz​​​​​​​​\, Marilla Palmer​​​​​​​​\, Clayton Porter​​​​​​​​\, Karen Smidth​​​​​​​​ and Stephanie Strange​​​​​​​​
URL:https://blueprint-gallery.com/event/september-art-show/
LOCATION:Blue Print Gallery\, 2701 Fairmount Street\, Dallas\, TX\, 75201\, United States
CATEGORIES:Art Show
ATTACH;FMTTYPE=image/jpeg:https://blueprint-gallery.com/wp-content/uploads/2022/09/Sept.-Art-Show-Stories-scaled.jpeg
END:VEVENT
END:VCALENDAR