BEGIN:VCALENDAR
VERSION:2.0
PRODID:-//Blue Print Gallery - ECPv6.15.20//NONSGML v1.0//EN
CALSCALE:GREGORIAN
METHOD:PUBLISH
X-WR-CALNAME:Blue Print Gallery
X-ORIGINAL-URL:https://blueprint-gallery.com
X-WR-CALDESC:Events for Blue Print Gallery
REFRESH-INTERVAL;VALUE=DURATION:PT1H
X-Robots-Tag:noindex
X-PUBLISHED-TTL:PT1H
BEGIN:VTIMEZONE
TZID:America/Chicago
BEGIN:DAYLIGHT
TZOFFSETFROM:-0600
TZOFFSETTO:-0500
TZNAME:CDT
DTSTART:20240310T080000
END:DAYLIGHT
BEGIN:STANDARD
TZOFFSETFROM:-0500
TZOFFSETTO:-0600
TZNAME:CST
DTSTART:20241103T070000
END:STANDARD
BEGIN:DAYLIGHT
TZOFFSETFROM:-0600
TZOFFSETTO:-0500
TZNAME:CDT
DTSTART:20250309T080000
END:DAYLIGHT
BEGIN:STANDARD
TZOFFSETFROM:-0500
TZOFFSETTO:-0600
TZNAME:CST
DTSTART:20251102T070000
END:STANDARD
BEGIN:DAYLIGHT
TZOFFSETFROM:-0600
TZOFFSETTO:-0500
TZNAME:CDT
DTSTART:20260308T080000
END:DAYLIGHT
BEGIN:STANDARD
TZOFFSETFROM:-0500
TZOFFSETTO:-0600
TZNAME:CST
DTSTART:20261101T070000
END:STANDARD
BEGIN:DAYLIGHT
TZOFFSETFROM:-0600
TZOFFSETTO:-0500
TZNAME:CDT
DTSTART:20270314T080000
END:DAYLIGHT
BEGIN:STANDARD
TZOFFSETFROM:-0500
TZOFFSETTO:-0600
TZNAME:CST
DTSTART:20271107T070000
END:STANDARD
END:VTIMEZONE
BEGIN:VEVENT
DTSTART;TZID=America/Chicago:20250918T173000
DTEND;TZID=America/Chicago:20250918T193000
DTSTAMP:20260421T202911
CREATED:20250107T185056Z
LAST-MODIFIED:20250805T215644Z
UID:16717-1758216600-1758223800@blueprint-gallery.com
SUMMARY:September 2025 Art Show
DESCRIPTION:Please join us for an art show on September 18th from 5:30 – 7:30pm featuring work by Rebekah Callaghan\, Amy Van Winkle\, Andras Bality\, Shirley Marsh\, Karen Smidth\, Maura Segal\, and Josette Urso. The artist talks will begin at 4pm at the gallery. We will have live music\, a food truck and drinks\, and valet.
URL:https://blueprint-gallery.com/event/september-2025-art-show/
LOCATION:Blue Print Gallery\, 2701 Fairmount Street\, Dallas\, TX\, 75201\, United States
CATEGORIES:Art Show
ATTACH;FMTTYPE=image/jpeg:https://blueprint-gallery.com/wp-content/uploads/2024/10/CallaghanR_Half-light_14_x11__o_c_2024edited-in-studio-copy-scaled.jpg
END:VEVENT
BEGIN:VEVENT
DTSTART;TZID=America/Chicago:20251106T173000
DTEND;TZID=America/Chicago:20251106T193000
DTSTAMP:20260421T202911
CREATED:20250107T185903Z
LAST-MODIFIED:20251106T233829Z
UID:16719-1762450200-1762457400@blueprint-gallery.com
SUMMARY:November 2025 Art Show
DESCRIPTION:Please join us for an art show on November 6th from 5:30 – 7:30pm featuring work by Brenda Bogart\, David Hanes\, Lisa Lala\, Marise Maas\, Mary Rountree Moore\, Marilla Palmer\, and Charlotte Seifert. The artist talks will begin at 4:30pm at the gallery. We will have live music\, a food truck and drinks\, and valet.
URL:https://blueprint-gallery.com/event/november-2025-art-show/
LOCATION:Blue Print Gallery\, 2701 Fairmount Street\, Dallas\, TX\, 75201\, United States
CATEGORIES:Art Show
ATTACH;FMTTYPE=image/jpeg:https://blueprint-gallery.com/wp-content/uploads/2021/07/Maas-Traveling-Light-2017-oil-on-canvas-100x200cm-1.jpeg
END:VEVENT
BEGIN:VEVENT
DTSTART;TZID=America/Chicago:20260226T173000
DTEND;TZID=America/Chicago:20260226T193000
DTSTAMP:20260421T202911
CREATED:20250220T185439Z
LAST-MODIFIED:20260202T212822Z
UID:17023-1772127000-1772134200@blueprint-gallery.com
SUMMARY:February 2026 Art Show
DESCRIPTION:Please join us for an art show on February 26th from 5:30 – 7:30pm featuring work by Rick Beck\, Christopher Boffoli\, Joey Lancaster\, Jill Lear\, Clayton Porter\, Robert Rea\, Cameron Sands and Stephanie Shank. We will have live music\, a food truck and drinks\, and valet. The artist talks will begin at 4:30pm at the gallery.
URL:https://blueprint-gallery.com/event/february-2026-art-show/
LOCATION:Blue Print Gallery\, 2701 Fairmount Street\, Dallas\, TX\, 75201\, United States
CATEGORIES:Art Show
ATTACH;FMTTYPE=image/jpeg:https://blueprint-gallery.com/wp-content/uploads/2023/10/toaster-issues-150ppi-1800px.jpeg
END:VEVENT
BEGIN:VEVENT
DTSTART;TZID=America/Chicago:20260507T173000
DTEND;TZID=America/Chicago:20260507T193000
DTSTAMP:20260421T202911
CREATED:20250220T185817Z
LAST-MODIFIED:20260205T215846Z
UID:17025-1778175000-1778182200@blueprint-gallery.com
SUMMARY:May 2026 Art Show
DESCRIPTION:Please join us for an art show on May 7th from 5:30 – 7:30pm featuring work by Kate Barrengos\, Carolyn Evans\, Lori Glavin\, Arienne Lepretre\, Stephanie Strange\, and Blair Vaughn Gruler. We will have live music\, a food truck and drinks\, and valet. The artist talks will begin at 4:30 pm at the gallery.
URL:https://blueprint-gallery.com/event/may-2026-art-show/
LOCATION:Blue Print Gallery\, 2701 Fairmount Street\, Dallas\, TX\, 75201\, United States
CATEGORIES:Art Show
ATTACH;FMTTYPE=image/jpeg:https://blueprint-gallery.com/wp-content/uploads/2024/11/Lepretre-EGRETS.jpeg
END:VEVENT
BEGIN:VEVENT
DTSTART;TZID=America/Chicago:20260917T173000
DTEND;TZID=America/Chicago:20260917T193000
DTSTAMP:20260421T202911
CREATED:20250220T190059Z
LAST-MODIFIED:20260205T215911Z
UID:17027-1789666200-1789673400@blueprint-gallery.com
SUMMARY:September 2026 Art Show
DESCRIPTION:Please join us for an art show on September 17th from 5:30 – 7:30pm featuring work by Andras Bality\, Robert Berguson\, Chase Langford\, and Karen Smidth. We will have live music\, a food truck and drinks\, and valet. The artist talks will begin at 4:30 pm at the gallery.
URL:https://blueprint-gallery.com/event/september-2026-art-show/
LOCATION:Blue Print Gallery\, 2701 Fairmount Street\, Dallas\, TX\, 75201\, United States
CATEGORIES:Art Show
ATTACH;FMTTYPE=image/jpeg:https://blueprint-gallery.com/wp-content/uploads/2024/08/Smidth-THE-PATH-1.jpg
END:VEVENT
BEGIN:VEVENT
DTSTART;TZID=America/Chicago:20261105T173000
DTEND;TZID=America/Chicago:20261105T193000
DTSTAMP:20260421T202911
CREATED:20250220T190405Z
LAST-MODIFIED:20260205T215930Z
UID:17030-1793899800-1793907000@blueprint-gallery.com
SUMMARY:November 2026 Art Show
DESCRIPTION:Please join us for an art show on November 5th from 5:30 – 7:30pm featuring work by Selena Beaudry\, Joyce Howell\, Joey Lancaster\, Marilla Palmer\, and Josette Urso. We will have live music\, a food truck and drinks\, and valet. The artist talks will begin at 4:30 pm at the gallery.
URL:https://blueprint-gallery.com/event/november-2026-art-show/
LOCATION:Blue Print Gallery\, 2701 Fairmount Street\, Dallas\, TX\, 75201\, United States
CATEGORIES:Art Show
ATTACH;FMTTYPE=image/jpeg:https://blueprint-gallery.com/wp-content/uploads/2024/09/24_JosetteUrso_BlueCanoe2_7x5_inches_oilONpanel.jpeg
END:VEVENT
END:VCALENDAR